BEGIN:VCALENDAR
VERSION:2.0
PRODID:-//pretix//Ensinger_Theater//
BEGIN:VTIMEZONE
TZID:Europe/Berlin
BEGIN:STANDARD
DTSTART:20001029T040000
RRULE:FREQ=YEARLY;BYDAY=-1SU;BYMONTH=10
TZNAME:CET
TZOFFSETFROM:+0200
TZOFFSETTO:+0100
END:STANDARD
BEGIN:DAYLIGHT
DTSTART:20000326T030000
RRULE:FREQ=YEARLY;BYDAY=-1SU;BYMONTH=3
TZNAME:CEST
TZOFFSETFROM:+0100
TZOFFSETTO:+0200
END:DAYLIGHT
END:VTIMEZONE
BEGIN:VEVENT
UID:pretix-foerd-tsv-haarig-12@pretix.ensingertheater.de
DTSTART;TZID=Europe/Berlin:20250711T200000
DTEND;TZID=Europe/Berlin:20250711T210000
DESCRIPTION:Tickets: https://pretix.ensingertheater.de/foerd-tsv/haarig/12/
 \nEinlass: 11.07.2025 18:00\nVeranstalter: Förderverein des TSV Ensingen 
 1911 e.V.
DTSTAMP:20260419T212135Z
LOCATION:Weingut Walz\, Seehau 1\, 71665 Vaihingen - Ensingen
SUMMARY:Haarige Zeiten
END:VEVENT
END:VCALENDAR
